BEGIN:VCALENDAR
VERSION:2.0
PRODID:-//eventon.com NONSGML v1.0//EN
CALSCALE:GREGORIAN
METHOD:PUBLISH
BEGIN:VEVENT
UID:69e8b1061e250
DTSTAMP:20260422T112910Z
DTSTART:20200316T190000Z
DTEND:20200316T200000Z
LOCATION:
SUMMARY:Sesión en directo de DJ McFly (EVENTO EN INSTAGRAM)
DESCRIPTION:Sesión en directo de DJ McFly desde su casa. El lunes\,  16 de
  marzo\,  a las 20\, 00 en su cuenta de Instagram (@djmcflydj). Sus shows s
 on pura energía. El espectáculo en cabina está garantizado. DJ nacido en
  Segovia (España). Su carrera empezó a los 17 años. Estando ya cerca de[
 ..]\nhttps://www.eventosdesegovia.com/events/sesion-en-directo-de-dj-mcfly/
URL:https://www.eventosdesegovia.com/events/sesion-en-directo-de-dj-mcfly/
END:VEVENT
END:VCALENDAR