BEGIN:VCALENDAR
VERSION:2.0
PRODID:-//eventon.com NONSGML v1.0//EN
CALSCALE:GREGORIAN
METHOD:PUBLISH
BEGIN:VEVENT
UID:69e7788d965ce
DTSTAMP:20260421T131557Z
DTSTART:20200315
DTEND:20200316
LOCATION:
SUMMARY:Meditación en directo desde Crisalida (evento en YouTube)
DESCRIPTION:Meditación en directo desde Crisalida (evento online). Durante
  los días de aislamiento debido a la crisis sanitaria\,  te invitamos a me
 ditar juntos unos minutos y a compartir alguna reflexión desde el yoga y l
 a meditación Desde Crisálida queremos contribuir a pasar estos días de a
 islamiento\,  soledad y desconcierto de la[..]\nhttps://www.eventosdesegovi
 a.com/events/meditacion-en-directo-desde-crisalida-evento-online-2/
URL:https://www.eventosdesegovia.com/events/meditacion-en-directo-desde-crisalida-evento-online-2/
END:VEVENT
END:VCALENDAR