BEGIN:VCALENDAR
VERSION:2.0
PRODID:-//eventon.com NONSGML v1.0//EN
CALSCALE:GREGORIAN
METHOD:PUBLISH
BEGIN:VEVENT
UID:69e4e0164fb2a
DTSTAMP:20260419T140054Z
DTSTART:20221105
DTEND:20221106
LOCATION:La Cárcel_Centro de Creación Av. Juan Carlos I
SUMMARY:Congreso de la Federación Nacional de la Unión de la Marioneta UNIMA
DESCRIPTION:Congreso de la Federación Nacional de la Unión de la Marionet
 a\,  UNIMA. Del 5 al 11 de noviembre se celebrará en Segovia\,  con sede
  en La Cárcel_Segovia Centro de Creación y coordinado en esta ciudad por 
 Titirimundi El XVIII Congreso de la Federación España de la UNIMA\,  la
  Unión Internacional de la Marioneta\,  con[..]\nhttps://www.eventosdesego
 via.com/events/congreso-de-la-federacion-nacional-de-la-union-de-la-marione
 ta-unima/
URL:https://www.eventosdesegovia.com/events/congreso-de-la-federacion-nacional-de-la-union-de-la-marioneta-unima/
END:VEVENT
END:VCALENDAR