BEGIN:VCALENDAR
VERSION:2.0
PRODID:-//eventon.com NONSGML v1.0//EN
CALSCALE:GREGORIAN
METHOD:PUBLISH
BEGIN:VEVENT
UID:69eb3fb252ea3
DTSTAMP:20260424T100226Z
DTSTART:20221127
DTEND:20221128
LOCATION:Real Sitio de San Ildefonso Real Sitio de San Ildefonso
SUMMARY:Matinés Musicales de La Granja 2022
DESCRIPTION:Matinés Musicales de La Granja 2022En este ciclo\,  tríos\,  
 cuartetos\,  cantantes\,  jóvenes prodigios\,  y vientos se subirán al es
 cenario del Teatro Canónigos donde disfrutaremos de cinco domingos de buen
 a música. La presente edición trae algunas novedades. La cita de cada dom
 ingo se adelantará a las 12.30 y para premiar al público que[..]\nhttps
 ://www.eventosdesegovia.com/events/matines-musicales-de-la-granja-2022/
URL:https://www.eventosdesegovia.com/events/matines-musicales-de-la-granja-2022/
END:VEVENT
END:VCALENDAR