BEGIN:VCALENDAR
VERSION:2.0
PRODID:-//eventon.com NONSGML v1.0//EN
CALSCALE:GREGORIAN
METHOD:PUBLISH
BEGIN:VEVENT
UID:69e7881ae25db
DTSTAMP:20260421T142218Z
DTSTART:20221203T173000Z
DTEND:20221203T213000Z
LOCATION:Arroyo de Cuéllar Arroyo de Cuéllar
SUMMARY:XXXVII Marathon Rock 2022 en Arroyo de Cuéllar
DESCRIPTION:XXXVII Marathon Rock 2022 en Arroyo de Cuéllar\,  con Los Delt
 onos\,  Los Brazos\,  Quartet Tarantino\,  Wanky MOnkeys&#8230; El 3 de Dic
 iembre de 2022 a las 18:00 en el Salón Multiusos de la localidad.\nhttps:/
 /www.eventosdesegovia.com/events/xxxvii-marathon-rock-2022-en-arroyo-de-cue
 llar/
URL:https://www.eventosdesegovia.com/events/xxxvii-marathon-rock-2022-en-arroyo-de-cuellar/
END:VEVENT
END:VCALENDAR