BEGIN:VCALENDAR
VERSION:2.0
PRODID:-//eventon.com NONSGML v1.0//EN
CALSCALE:GREGORIAN
METHOD:PUBLISH
BEGIN:VEVENT
UID:69e8b1048eee7
DTSTAMP:20260422T112908Z
DTSTART:20200329T170000Z
DTEND:20200411T180000Z
LOCATION:
SUMMARY:Teatro infantil de Tamanka para despedir el día (evento en Facebook)
DESCRIPTION:Teatro infantil de Tamanka para despedir el día (evento en Fac
 ebook). En estos días el arte nos da alegría\,  felicidad\,  entretenimie
 nto\,  equilibrio psicológico&#8230; cosas que no encontramos en otros sit
 ios. Tamanka te invita de lunes a viernes a su espectáculo a las 19\, 00 d
 e la tarde. Para ti y los[..]\nhttps://www.eventosdesegovia.com/events/teat
 ro-infantil-de-tamanka-para-despedir-el-dia-evento-en-facebook/
URL:https://www.eventosdesegovia.com/events/teatro-infantil-de-tamanka-para-despedir-el-dia-evento-en-facebook/
END:VEVENT
END:VCALENDAR