BEGIN:VCALENDAR
VERSION:2.0
PRODID:-//eventon.com NONSGML v1.0//EN
CALSCALE:GREGORIAN
METHOD:PUBLISH
BEGIN:VEVENT
UID:69e89d13a2663
DTSTAMP:20260422T100403Z
DTSTART:20221221
DTEND:20221222
LOCATION:Segovia Segovia
SUMMARY:Coral Ágora Navidad 2022
DESCRIPTION:Coral Ágora Navidad 2022\,  conciertos de Navidad\,  los días
  21\,  27 29 de Diciembre y 4 de Enero de 2023\,  en distintas iglesias de 
 la capital segoviana y la provincia.\nhttps://www.eventosdesegovia.com/even
 ts/coral-agora-navidad-2022/
URL:https://www.eventosdesegovia.com/events/coral-agora-navidad-2022/
END:VEVENT
END:VCALENDAR