BEGIN:VCALENDAR
VERSION:2.0
PRODID:-//eventon.com NONSGML v1.0//EN
CALSCALE:GREGORIAN
METHOD:PUBLISH
BEGIN:VEVENT
UID:69e60b3a605a2
DTSTAMP:20260420T111714Z
DTSTART:20221221
DTEND:20221222
LOCATION:
SUMMARY:Exposición Alfarería tradicional de Segovia
DESCRIPTION:Exposición «Alfarería tradicional de Segovia. Herencia para 
 el presente». Del 21 de diciembre de 2022 al 28 de abril de 2023 se podrá
  visitar esta exposición que muestra la alfarería tradicional de Segovia 
 en el Museo Zuoloaga\,  de Segovia. Además de la muestra de alfarería tra
 dicional desaparecida\,  en esta exposición[..]\nhttps://www.eventosdesego
 via.com/events/exposicion-alfareria-tradicional-de-segovia/
URL:https://www.eventosdesegovia.com/events/exposicion-alfareria-tradicional-de-segovia/
END:VEVENT
END:VCALENDAR