BEGIN:VCALENDAR
VERSION:2.0
PRODID:-//eventon.com NONSGML v1.0//EN
CALSCALE:GREGORIAN
METHOD:PUBLISH
BEGIN:VEVENT
UID:69e4cb3234bca
DTSTAMP:20260419T123146Z
DTSTART:20221227
DTEND:20221228
LOCATION:Biblioteca Pública de Segovia Calle los Procuradores de la Tierra\,  6
SUMMARY:TALLER DE COLLAGE INFANTIL PARA LOS ARTISTAS DEL FUTURO
DESCRIPTION:Taller de Collage infantil para los artistas del futuro\,  27 d
 e diciembre a las 12:00 horas\,  en la Biblioteca Pública de Segovia. Púb
 lico infantil (mayores de 6 años) El collage es una de las técnicas de ex
 presión gráfica idónea para desarrollar las habilidades creativas en cua
 lquier persona y a cualquier[..]\nhttps://www.eventosdesegovia.com/events/t
 aller-de-collage-infantil-para-los-artistas-del-futuro/
URL:https://www.eventosdesegovia.com/events/taller-de-collage-infantil-para-los-artistas-del-futuro/
END:VEVENT
END:VCALENDAR