BEGIN:VCALENDAR
VERSION:2.0
PRODID:-//eventon.com NONSGML v1.0//EN
CALSCALE:GREGORIAN
METHOD:PUBLISH
BEGIN:VEVENT
UID:69e78a40951aa
DTSTAMP:20260421T143128Z
DTSTART:20221224
DTEND:20221225
LOCATION:Sepúlveda Sepúlveda
SUMMARY:Visitas Teatralizadas en Sepúlveda
DESCRIPTION:Visitas Teatralizadas en Sepúlveda\,  del 24 de Diciembre de 2
 022 hasta el 8 de enero de 2023\nhttps://www.eventosdesegovia.com/events/vi
 sitas-teatralizadas-en-sepulveda/
URL:https://www.eventosdesegovia.com/events/visitas-teatralizadas-en-sepulveda/
END:VEVENT
END:VCALENDAR