BEGIN:VCALENDAR
VERSION:2.0
PRODID:-//eventon.com NONSGML v1.0//EN
CALSCALE:GREGORIAN
METHOD:PUBLISH
BEGIN:VEVENT
UID:69e7906402034
DTSTAMP:20260421T145740Z
DTSTART:20221231
DTEND:20230101
LOCATION:Segovia Segovia
SUMMARY:Tardevieja en La Lastrilla con Moreno DJs
DESCRIPTION:Tardevieja en La Lastrilla con Moreno DJs\,  31 de diciembre de
  14:00 a 18:00 horas\,  en Sala Multiusos Más información: @morenodjs\nht
 tps://www.eventosdesegovia.com/events/tardevieja-en-la-lastrilla-con-moreno
 -djs/
URL:https://www.eventosdesegovia.com/events/tardevieja-en-la-lastrilla-con-moreno-djs/
END:VEVENT
END:VCALENDAR