BEGIN:VCALENDAR
VERSION:2.0
PRODID:-//eventon.com NONSGML v1.0//EN
CALSCALE:GREGORIAN
METHOD:PUBLISH
BEGIN:VEVENT
UID:69e89d09a557f
DTSTAMP:20260422T100353Z
DTSTART:20221230
DTEND:20221231
LOCATION:Segovia Segovia
SUMMARY:Paella en La Lastrilla contra el cáncer infantil
DESCRIPTION:Paella en La Lastrilla contra el cáncer infantil\,  30 de dici
 embre a las 14:30 horas. El club deportivo «La Lastrilla» celebra este vi
 ernes día 30 una paella para recaudar fondos a beneficio de la lucha contr
 a el cáncer infantil. La comida\,  que está abierta a la participación d
 e todo el[..]\nhttps://www.eventosdesegovia.com/events/paella-en-la-lastril
 la-contra-el-cancer-infantil/
URL:https://www.eventosdesegovia.com/events/paella-en-la-lastrilla-contra-el-cancer-infantil/
END:VEVENT
END:VCALENDAR