BEGIN:VCALENDAR
VERSION:2.0
PRODID:-//eventon.com NONSGML v1.0//EN
CALSCALE:GREGORIAN
METHOD:PUBLISH
BEGIN:VEVENT
UID:69e7624ebaa52
DTSTAMP:20260421T114102Z
DTSTART:20230104T163000Z
DTEND:20230104T183000Z
LOCATION:Cuéllar Cuéllar
SUMMARY:Cartero Real de SSMM los Reyes Magos de Oriente en Cuéllar
DESCRIPTION:Cartero Real de SSMM los Reyes Magos de Oriente en Cuéllar\,  
 el 4 de Enero de 2023 a las 17:30 en el Salón de Plenos del Ayuntamiento d
 e Cuéllar\nhttps://www.eventosdesegovia.com/events/cartero-real-de-ssmm-lo
 s-reyes-magos-de-oriente-en-cuellar/
URL:https://www.eventosdesegovia.com/events/cartero-real-de-ssmm-los-reyes-magos-de-oriente-en-cuellar/
END:VEVENT
END:VCALENDAR