BEGIN:VCALENDAR
VERSION:2.0
PRODID:-//eventon.com NONSGML v1.0//EN
CALSCALE:GREGORIAN
METHOD:PUBLISH
BEGIN:VEVENT
UID:69e75d40e8eea
DTSTAMP:20260421T111928Z
DTSTART:20200419T183000Z
DTEND:20200419T190000Z
LOCATION:
SUMMARY:Majetes Festival - Juan Antonio XAS (evento en YouTube)
DESCRIPTION:Majetes Festival &#8211; Juan Antonio XAS (evento en YouTube). 
 🎶🎸🎹  Del 13 al 19 abril de 2020 continuará el “Majetes Festiva
 l”\,  una cita con artistas de Segovia a través de las redes sociales de
  Segovia Joven. 🎶 El martes la actuación musical de Juan Antonio XAS se
  podrá verse a[..]\nhttps://www.eventosdesegovia.com/events/majetes-festiv
 al-juan-antonio-xas-evento-en-youtube/
URL:https://www.eventosdesegovia.com/events/majetes-festival-juan-antonio-xas-evento-en-youtube/
END:VEVENT
END:VCALENDAR