BEGIN:VCALENDAR
VERSION:2.0
PRODID:-//eventon.com NONSGML v1.0//EN
CALSCALE:GREGORIAN
METHOD:PUBLISH
BEGIN:VEVENT
UID:69e8b1971b105
DTSTAMP:20260422T113135Z
DTSTART:20230211
DTEND:20230212
LOCATION:La Cárcel_Centro de Creación Av. Juan Carlos I
SUMMARY:Puro Teatro 2023 - Lo siento no era yo
DESCRIPTION:Puro Teatro 2023 &#8211; Lo siento no era yo\,  11 de febrero a
  las 20:30 horas\,  en la Cárcel de Segovia. Basta un espejo para tener un
  enemigo. «Lo siento\,  no era yo» cuenta la historia de Carmen. Carmen e
 s una chica joven\,  fuerte y segura\,  pero no puede dormir[..]\nhttps://w
 ww.eventosdesegovia.com/events/puro-teatro-2023-lo-siento-no-era-yo/
URL:https://www.eventosdesegovia.com/events/puro-teatro-2023-lo-siento-no-era-yo/
END:VEVENT
END:VCALENDAR