BEGIN:VCALENDAR
VERSION:2.0
PRODID:-//eventon.com NONSGML v1.0//EN
CALSCALE:GREGORIAN
METHOD:PUBLISH
BEGIN:VEVENT
UID:69e4d281e4b36
DTSTAMP:20260419T130257Z
DTSTART:20230218
DTEND:20230219
LOCATION:Carbonero el Mayor Carbonero el Mayor
SUMMARY:Carnaval 2023 en Carbonero el Mayor
DESCRIPTION:Carnaval 2023 en Carbonero el Mayor\,  el 18 y 19 de Febrero de
  2023\,  con Encierro de Vaquillas\,  Concentración de Disfraces\,  Charan
 ga\,  Cena\,  Discoteca\,  Premios\,  desfile de Carnaval\,  Bailes&#8230;\
 nhttps://www.eventosdesegovia.com/events/carnaval-2023-en-carbonero-el-mayo
 r/
URL:https://www.eventosdesegovia.com/events/carnaval-2023-en-carbonero-el-mayor/
END:VEVENT
END:VCALENDAR