BEGIN:VCALENDAR
VERSION:2.0
PRODID:-//eventon.com NONSGML v1.0//EN
CALSCALE:GREGORIAN
METHOD:PUBLISH
BEGIN:VEVENT
UID:69e7770633b1c
DTSTAMP:20260421T130926Z
DTSTART:20200418T160000Z
DTEND:20200418T170000Z
LOCATION:
SUMMARY:Encuentro Jóvenes de Pastoral Juventud Segovia
DESCRIPTION:Encuentro de Jóvenes con Talento\,  de Pastoral Juventud Segov
 ia. Sábado\,  18 de abril de 2020\,  a las 18:00h. Tendrá lugar a través
  de la plataforma Zoom. Más información en la cuenta de Instagram de @jov
 enes_iglesiaensegovia. Encuentro de Jóvenes con Talento\,  de Pastoral Juv
 entud Segovia.\nhttps://www.eventosdesegovia.com/events/encuentro-jovenes-d
 e-pastoral-juventud-segovia/
URL:https://www.eventosdesegovia.com/events/encuentro-jovenes-de-pastoral-juventud-segovia/
END:VEVENT
END:VCALENDAR