BEGIN:VCALENDAR
VERSION:2.0
PRODID:-//eventon.com NONSGML v1.0//EN
CALSCALE:GREGORIAN
METHOD:PUBLISH
BEGIN:VEVENT
UID:69e75d39a63e2
DTSTAMP:20260421T111921Z
DTSTART:20200420T183000Z
DTEND:20200420T200000Z
LOCATION:
SUMMARY:Majetes Festival - Ánima
DESCRIPTION:Majetes Festival &#8211; Ánima El “Majetes Festival”\,  im
 pulsado desde la concejalía de Juventud del Ayuntamiento de Segovia\,  re
 ne una vez más a jóvenes artistas de la ciudad para ofrecer diferentes a
 ctuaciones que se emiten a través de las redes sociales\,  de lunes a vier
 nes\,  a partir de las 20:30 horas.[..]\nhttps://www.eventosdesegovia.com/e
 vents/majetes-festival-anima/
URL:https://www.eventosdesegovia.com/events/majetes-festival-anima/
END:VEVENT
END:VCALENDAR