BEGIN:VCALENDAR
VERSION:2.0
PRODID:-//eventon.com NONSGML v1.0//EN
CALSCALE:GREGORIAN
METHOD:PUBLISH
BEGIN:VEVENT
UID:69e73cf523ea4
DTSTAMP:20260421T090141Z
DTSTART:20200424T183000Z
DTEND:20200424T200000Z
LOCATION:
SUMMARY:Majetes Festival - Marta Revuelta
DESCRIPTION:Majetes Festival &#8211; Marta Revuelta El “Majetes Festival
 \,  impulsado desde la concejalía de Juventud del Ayuntamiento de Segovi
 a\,  reúne una vez más a jóvenes artistas de la ciudad para ofrecer dife
 rentes actuaciones que se emiten a través de las redes sociales\,  de lune
 s a viernes\,  a partir de las 20:30[..]\nhttps://www.eventosdesegovia.com/
 events/majetes-festival-marta-revuelta/
URL:https://www.eventosdesegovia.com/events/majetes-festival-marta-revuelta/
END:VEVENT
END:VCALENDAR