BEGIN:VCALENDAR
VERSION:2.0
PRODID:-//eventon.com NONSGML v1.0//EN
CALSCALE:GREGORIAN
METHOD:PUBLISH
BEGIN:VEVENT
UID:69e777f168cdc
DTSTAMP:20260421T131321Z
DTSTART:20200507T140000Z
DTEND:20200507T150000Z
LOCATION:
SUMMARY:Seminario online sobre Google My Business
DESCRIPTION:Seminario online sobre Google My Business\,  organizado por la 
 Cámara de Comercio de Segovia e impartido por CEASE. Google My Business es
  una plataforma gratuita de Google\,  destinada a empresas y que ayuda a qu
 e los negocios tengan más visibilidad en Internet. Es una herramienta que 
 puede resultar muy útil[..]\nhttps://www.eventosdesegovia.com/events/semin
 ario-online-sobre-google-my-business/
URL:https://www.eventosdesegovia.com/events/seminario-online-sobre-google-my-business/
END:VEVENT
END:VCALENDAR