BEGIN:VCALENDAR
VERSION:2.0
PRODID:-//eventon.com NONSGML v1.0//EN
CALSCALE:GREGORIAN
METHOD:PUBLISH
BEGIN:VEVENT
UID:69e6335804ccb
DTSTAMP:20260420T140824Z
DTSTART:20230519
DTEND:20230520
LOCATION:Metrópolis Segovia Calle Los coches
SUMMARY:Concierto de Still Rock
DESCRIPTION:Concierto de Still Rock\,  19 de mayo a las 21:45 horas\,  en B
 ar Metrópolis.\nhttps://www.eventosdesegovia.com/events/concierto-de-still
 -rock/
URL:https://www.eventosdesegovia.com/events/concierto-de-still-rock/
END:VEVENT
END:VCALENDAR