BEGIN:VCALENDAR
VERSION:2.0
PRODID:-//eventon.com NONSGML v1.0//EN
CALSCALE:GREGORIAN
METHOD:PUBLISH
BEGIN:VEVENT
UID:69e73ce60686c
DTSTAMP:20260421T090126Z
DTSTART:20200511T150000Z
DTEND:20200518T180000Z
LOCATION:
SUMMARY:Casa Joven – Actividades online para mayores de 16 años (del 11 al 18 de mayo)
DESCRIPTION:Casa Joven – Actividades online para mayores de 16 años (del
  11 al 18 de mayo). ¡Continúan las actividades semanales de Segovia Joven
 ! 🌈 La Concejalía de Juventud sigue ofreciendo nuevas propuestas para l
 as tardes de la semana del 11 al 16 de mayo. 💪🏼 Desde recetas de la n
 aturaleza\, [..]\nhttps://www.eventosdesegovia.com/events/casa-joven-activi
 dades-online-para-mayores-de-16-anos-del-11-al-18-de-mayo/
URL:https://www.eventosdesegovia.com/events/casa-joven-actividades-online-para-mayores-de-16-anos-del-11-al-18-de-mayo/
END:VEVENT
END:VCALENDAR