BEGIN:VCALENDAR
VERSION:2.0
PRODID:-//eventon.com NONSGML v1.0//EN
CALSCALE:GREGORIAN
METHOD:PUBLISH
BEGIN:VEVENT
UID:69e7a646550a3
DTSTAMP:20260421T163102Z
DTSTART:20200514
DTEND:20200515
LOCATION:
SUMMARY:Día Internacional de los Museos 2020 - Museo Esteban Vicente
DESCRIPTION:Día Internacional de los Museos 2020 &#8211; Museo Esteban Vic
 ente. El objetivo del Día Internacional de los Museos (DIM) es concienciar
  sobre la importancia de los museos como medio para el intercambio cultural
 . Aunque se celebra el 18 de mayo\,  del 11 al 18 de mayo se ofrecen a nive
 l[..]\nhttps://www.eventosdesegovia.com/events/dia-internacional-de-los-mus
 eos-2020-museo-esteban-vicente/
URL:https://www.eventosdesegovia.com/events/dia-internacional-de-los-museos-2020-museo-esteban-vicente/
END:VEVENT
END:VCALENDAR