BEGIN:VCALENDAR
VERSION:2.0
PRODID:-//eventon.com NONSGML v1.0//EN
CALSCALE:GREGORIAN
METHOD:PUBLISH
BEGIN:VEVENT
UID:69e89d1da66de
DTSTAMP:20260422T100413Z
DTSTART:20200515T220000Z
DTEND:20200516T110000Z
LOCATION:
SUMMARY:Cuentacuentos Online de Liberia Ícaro
DESCRIPTION:Cuentacuentos Online de Liberia Ícaro. El 16 de Mayo de 2020 a
  las 12:00 en su pagina de Facebook. En mayo Librería Ícaro sigue con su 
 cuentacuentos. El sábado\,  a las 12:00\,  el gran David Gregoris estará 
 en la página de Facebook de la librería para que disfrutéis con sus[..]\
 nhttps://www.eventosdesegovia.com/events/cuentacuentos-online-de-liberia-ic
 aro/
URL:https://www.eventosdesegovia.com/events/cuentacuentos-online-de-liberia-icaro/
END:VEVENT
END:VCALENDAR