BEGIN:VCALENDAR
VERSION:2.0
PRODID:-//eventon.com NONSGML v1.0//EN
CALSCALE:GREGORIAN
METHOD:PUBLISH
BEGIN:VEVENT
UID:69e78ffa883ff
DTSTAMP:20260421T145554Z
DTSTART:20200515T170000Z
DTEND:20200515T180000Z
LOCATION:
SUMMARY:'Conversaciones en confianza' con Isabel Villanueva - Fundación Juan de Borbón
DESCRIPTION:&#8216;Conversaciones en confianza&#8217; con Isabel Villanueva
  &#8211; Fundación Juan de Borbón 📌 Este viernes\,  15 de mayo ⏰ A 
 las 19:00 horas 📍 Directo en Instagram La violinista Isabel Villanueva 
 será la segunda invitada en los directos en Instagram de Fundación Don Ju
 an de Borbón. Villanueva es valorada por su expresión y[..]\nhttps://www.
 eventosdesegovia.com/events/conversaciones-en-confianza-con-isabel-villanue
 va/
URL:https://www.eventosdesegovia.com/events/conversaciones-en-confianza-con-isabel-villanueva/
END:VEVENT
END:VCALENDAR