BEGIN:VCALENDAR
VERSION:2.0
PRODID:-//eventon.com NONSGML v1.0//EN
CALSCALE:GREGORIAN
METHOD:PUBLISH
BEGIN:VEVENT
UID:69e8b10cb3e56
DTSTAMP:20260422T112916Z
DTSTART:20200516T200000Z
DTEND:20200516T210000Z
LOCATION:
SUMMARY:Majetes Festival - Silvia Sanjuán
DESCRIPTION:Majetes Festival &#8211; Silvia Sanjuán. ✌🎶🎸🎹  Est
 e sábado no os perdáis la actuación de #MajetesFestival \,  Silvia Sanju
 án. Silvia Sanjuán👩‍🎤 es una cantante y musicóloga segoviana\,  
 del Real Sitio de San Ildefonso. Actúa en público desde los 14 años\,  e
 n solitario y en distintas agrupaciones musicales🎶 Su objetivo es dedica
 rse[..]\nhttps://www.eventosdesegovia.com/events/majetes-festival-silvia-sa
 njuan/
URL:https://www.eventosdesegovia.com/events/majetes-festival-silvia-sanjuan/
END:VEVENT
END:VCALENDAR