BEGIN:VCALENDAR
VERSION:2.0
PRODID:-//eventon.com NONSGML v1.0//EN
CALSCALE:GREGORIAN
METHOD:PUBLISH
BEGIN:VEVENT
UID:69e88a5a1e5e2
DTSTAMP:20260422T084410Z
DTSTART:20200523T160000Z
DTEND:20200523T170000Z
LOCATION:
SUMMARY:'Taller Lightroom' de la Asociación Fotográfica Segoviana
DESCRIPTION:TALLER LIGHTROOM CC &#8211; «Introducción a Lightroom: Revela
 do»\,  organizado por la Asociación Fotográfica Segoviana. Este sábado
  23 de Mayo de 2020\,   la AFS te ofrece un taller gratuito impartido por 
 Javier Vegas\,  a través de Facebook Live\,  en el que aprenderás a edita
 r\,  organizar\,  almacenar y compartir fotografias de manera profesional.[
 ..]\nhttps://www.eventosdesegovia.com/events/taller-lightroom-de-la-asociac
 ion-fotografica-segoviana/
URL:https://www.eventosdesegovia.com/events/taller-lightroom-de-la-asociacion-fotografica-segoviana/
END:VEVENT
END:VCALENDAR