BEGIN:VCALENDAR
VERSION:2.0
PRODID:-//eventon.com NONSGML v1.0//EN
CALSCALE:GREGORIAN
METHOD:PUBLISH
BEGIN:VEVENT
UID:69eb2a41ed82d
DTSTAMP:20260424T083057Z
DTSTART:20200615
DTEND:20200616
LOCATION:
SUMMARY:Donación de sangre en Segovia y provincia (del 15 al 21 de Junio)
DESCRIPTION:Donación de sangre en Segovia y provincia (del 15 al 21 de Jun
 io) La semana del 8 al 14 de Junio de 2020 se puede seguir donando sangre e
 n la Escuela Ingeniería Informática de Segovia (Plaza Santa Eulalia\,  1)
 . Horario: Se podrá donar sangre los lunes y martes de 9:00[..]\nhttps://w
 ww.eventosdesegovia.com/events/donacion-de-sangre-en-segovia-y-provincia-de
 l-15-al-21-de-junio/
URL:https://www.eventosdesegovia.com/events/donacion-de-sangre-en-segovia-y-provincia-del-15-al-21-de-junio/
END:VEVENT
END:VCALENDAR