BEGIN:VCALENDAR
VERSION:2.0
PRODID:-//eventon.com NONSGML v1.0//EN
CALSCALE:GREGORIAN
METHOD:PUBLISH
BEGIN:VEVENT
UID:69e774b5a7b9b
DTSTAMP:20260421T125933Z
DTSTART:20230714
DTEND:20230715
LOCATION:Centro Cultural de Cedillo Cedillo
SUMMARY:Fiestas 2023 en Cedillo de la Torre
DESCRIPTION:Fiestas 2023 en Cedillo de la Torre\,  los días 14 y 15 de Jul
 io de 2023\,  con Concierto de A Remolke el 14 de Julio a las 12 de la noch
 e en la plaza mayor\,  y el 15 de Julio DJ hasta las 2 de la madrugada!!\nh
 ttps://www.eventosdesegovia.com/events/fiestas-2023-en-cedillo-de-la-torre/
URL:https://www.eventosdesegovia.com/events/fiestas-2023-en-cedillo-de-la-torre/
END:VEVENT
END:VCALENDAR