BEGIN:VCALENDAR
VERSION:2.0
PRODID:-//eventon.com NONSGML v1.0//EN
CALSCALE:GREGORIAN
METHOD:PUBLISH
BEGIN:VEVENT
UID:69e7623b15d6f
DTSTAMP:20260421T114043Z
DTSTART:20230720
DTEND:20230721
LOCATION:Segovia Segovia
SUMMARY:MUSEG 2023 - 20 de julio
DESCRIPTION:MUSEG 2023. Programación para el 20 de julio: 20 de julio a la
 s 19:00h en La Alhóndiga. PRINCENTON GIRLS CHOIR. Concierto coral. Entrada
  libre. Para todos los públicos. 60 min Princenton Girlchoir es un program
 a de educación musical formado por siete coros que reúnen a niñas y jóv
 enes de 8[..]\nhttps://www.eventosdesegovia.com/events/museg-2023-20-de-jul
 io/
URL:https://www.eventosdesegovia.com/events/museg-2023-20-de-julio/
END:VEVENT
END:VCALENDAR