BEGIN:VCALENDAR
VERSION:2.0
PRODID:-//eventon.com NONSGML v1.0//EN
CALSCALE:GREGORIAN
METHOD:PUBLISH
BEGIN:VEVENT
UID:69e74e8239c70
DTSTAMP:20260421T101634Z
DTSTART:20200612
DTEND:20200613
LOCATION:
SUMMARY:Creando con vidrio en el Romeral de San Marcos 
DESCRIPTION:Creando con vidrio en el Romeral de San Marcos. Comenzamos la f
 ase 2 con una actividad al aire libre en el Romeral de San Marcos\,  entorn
 o natural excepcional en Segovia\,  para inspiranos en la construcción de 
 un caleidoscopio de luces de colores.  🌳🙏🏻😊 Construiremos un I
 nstrumento óptico\,  reutilizando un bote\, [..]\nhttps://www.eventosdeseg
 ovia.com/events/creando-con-vidrio-en-el-romeral-de-san-marcos/
URL:https://www.eventosdesegovia.com/events/creando-con-vidrio-en-el-romeral-de-san-marcos/
END:VEVENT
END:VCALENDAR