BEGIN:VCALENDAR
VERSION:2.0
PRODID:-//eventon.com NONSGML v1.0//EN
CALSCALE:GREGORIAN
METHOD:PUBLISH
BEGIN:VEVENT
UID:69e89d189c597
DTSTAMP:20260422T100408Z
DTSTART:20230729
DTEND:20230730
LOCATION:Riaza Riaza
SUMMARY:XVIII Fiesta de la Juventud en Riaza
DESCRIPTION:XVIII Fiesta de la Juventud en Riaza\,  el 29 de Julio de 2023 
 con Charanga\,  DJ y Orquesta!!\nhttps://www.eventosdesegovia.com/events/xv
 iii-fiesta-de-la-juventud-en-riaza/
URL:https://www.eventosdesegovia.com/events/xviii-fiesta-de-la-juventud-en-riaza/
END:VEVENT
END:VCALENDAR