BEGIN:VCALENDAR
VERSION:2.0
PRODID:-//eventon.com NONSGML v1.0//EN
CALSCALE:GREGORIAN
METHOD:PUBLISH
BEGIN:VEVENT
UID:69e7a5ee23de4
DTSTAMP:20260421T162934Z
DTSTART:20230817
DTEND:20230818
LOCATION:Navares de Enmedio Navares de Enmedio
SUMMARY:Día del Rastrillo en Navares de Enmedio
DESCRIPTION:Día del Rastrillo en Navares de Enmedio\,  el 17 de Agosto de 
 2023\,  con concursos\,  talleres&#8230;\nhttps://www.eventosdesegovia.com/
 events/dia-del-rastrillo-en-navares-de-enmedio/
URL:https://www.eventosdesegovia.com/events/dia-del-rastrillo-en-navares-de-enmedio/
END:VEVENT
END:VCALENDAR