BEGIN:VCALENDAR
VERSION:2.0
PRODID:-//eventon.com NONSGML v1.0//EN
CALSCALE:GREGORIAN
METHOD:PUBLISH
BEGIN:VEVENT
UID:69e89c0d2ef37
DTSTAMP:20260422T095941Z
DTSTART:20230805T173000Z
DTEND:20230805T190000Z
LOCATION:Navafría Navafría
SUMMARY:Concierto Familiar Jam Session en Navafría
DESCRIPTION:Concierto Familiar Jam Session en Navafría\,  el 5 de Agosto d
 e 2023\,  una tarde para toda la familia. a las 19:30 en la plaza del Ayunt
 amiento.\nhttps://www.eventosdesegovia.com/events/concierto-familiar-jam-se
 ssion-en-navafria/
URL:https://www.eventosdesegovia.com/events/concierto-familiar-jam-session-en-navafria/
END:VEVENT
END:VCALENDAR