BEGIN:VCALENDAR
VERSION:2.0
PRODID:-//eventon.com NONSGML v1.0//EN
CALSCALE:GREGORIAN
METHOD:PUBLISH
BEGIN:VEVENT
UID:69e88b28609c0
DTSTAMP:20260422T084736Z
DTSTART:20230922
DTEND:20230923
LOCATION:Teatro Juan Bravo Plaza Mayor\,  9
SUMMARY:Vive Moliere en Teatro Juan Bravo
DESCRIPTION:Vive Moliere\,  22 de septiembre a las 20:30 h\,  en Teatro Jua
 n Bravo. Precio único: 24 € Compañía: Ay Teatro Dramaturgia: Álvaro 
 Tato Dirección: Yayo Cáceres Intérpretes: Marta Estal\,  Laura Ferrer\, 
  Mario Portillo\,  Kevin de la Rosa y Juan de Vera Función: 20:30 h Duraci
 ón: 1 h y 30 min Precio[..]\nhttps://www.eventosdesegovia.com/events/vive-
 moliere-en-teatro-juan-bravo/
URL:https://www.eventosdesegovia.com/events/vive-moliere-en-teatro-juan-bravo/
END:VEVENT
END:VCALENDAR