BEGIN:VCALENDAR
VERSION:2.0
PRODID:-//eventon.com NONSGML v1.0//EN
CALSCALE:GREGORIAN
METHOD:PUBLISH
BEGIN:VEVENT
UID:69e740b2aaf53
DTSTAMP:20260421T091738Z
DTSTART:20230922
DTEND:20230923
LOCATION:Teatro Juan Bravo Plaza Mayor\,  9
SUMMARY:Teatro Juan Bravo 2023 Programación
DESCRIPTION:Teatro Juan Bravo 2023 Programación entre los meses de septiem
 bre de 2023 y enero de 2024. La venta de las entradas comenzará el próxim
 o miércoles\,  13 de septiembre\,  a partir de las 11:00 horas\,  tanto en
  Tickentradas como en la taquilla del Juan Bravo. Los precios oscilan entre
  los 3[..]\nhttps://www.eventosdesegovia.com/events/teatro-juan-bravo-2023-
 programacion/
URL:https://www.eventosdesegovia.com/events/teatro-juan-bravo-2023-programacion/
END:VEVENT
END:VCALENDAR