BEGIN:VCALENDAR
VERSION:2.0
PRODID:-//eventon.com NONSGML v1.0//EN
CALSCALE:GREGORIAN
METHOD:PUBLISH
BEGIN:VEVENT
UID:69e7771fb0870
DTSTAMP:20260421T130951Z
DTSTART:20230915
DTEND:20230916
LOCATION:Cabanillas del Monte Cabanillas del Monte
SUMMARY:Fiestas de San Miguel 2023 en Cabanillas del Monte
DESCRIPTION:Fiestas de San Miguel 2023 en Cabanillas del Monte del 15 al 24
  de Septiembre de 2023\,  con Talleres\,  Catas\,  Misa\,  Conciertos\,  Ve
 rbena\,  Caldereta\,  Juegos Infantiles&#8230;\nhttps://www.eventosdesegovi
 a.com/events/fiestas-de-san-miguel-2023-en-cabanillas-del-monte/
URL:https://www.eventosdesegovia.com/events/fiestas-de-san-miguel-2023-en-cabanillas-del-monte/
END:VEVENT
END:VCALENDAR