BEGIN:VCALENDAR
VERSION:2.0
PRODID:-//eventon.com NONSGML v1.0//EN
CALSCALE:GREGORIAN
METHOD:PUBLISH
BEGIN:VEVENT
UID:69eb2ae376626
DTSTAMP:20260424T083339Z
DTSTART:20230915
DTEND:20230916
LOCATION:Santa María de Riaza Santa María de Riaza
SUMMARY:Fiestas Patronales 2023 en Santa María de Riaza
DESCRIPTION:Fiestas Patronales 2023 en Santa María de Riaza\,  del 15 al 1
 7 de Septiembre de 2023\,  con Cena\,  Almuerzo\,  Pasacalles\,  Hinchables
 \,  Teatro\,  Misa\,  Verbenas..\nhttps://www.eventosdesegovia.com/events/f
 iestas-patronales-2023-en-santa-maria-de-riaza/
URL:https://www.eventosdesegovia.com/events/fiestas-patronales-2023-en-santa-maria-de-riaza/
END:VEVENT
END:VCALENDAR