BEGIN:VCALENDAR
VERSION:2.0
PRODID:-//eventon.com NONSGML v1.0//EN
CALSCALE:GREGORIAN
METHOD:PUBLISH
BEGIN:VEVENT
UID:69e89c10781ee
DTSTAMP:20260422T095944Z
DTSTART:20230928
DTEND:20230929
LOCATION:
SUMMARY:Encuentro Salud y Nutrición 'Etiquetado\,  publicidad y presentación de la información alimentaria'
DESCRIPTION:&#8216;Encuentro Salud y Nutrición &#8216;Etiquetado\,  public
 idad y presentación de la información alimentaria&#8217;\,  28 de septiem
 bre a las 19 horas en el salón de actos del Campus María Zambrano\,  Univ
 ersidad de Valladolid\,  Segovia. Organizado por la Asociación Andrés Lag
 una para la Promoción de las Ciencias de la Salud y la Fundación[..]\nhtt
 ps://www.eventosdesegovia.com/events/encuentro-salud-y-nutricion-etiquetado
 -publicidad-y-presentacion-de-la-informacion-alimentaria/
URL:https://www.eventosdesegovia.com/events/encuentro-salud-y-nutricion-etiquetado-publicidad-y-presentacion-de-la-informacion-alimentaria/
END:VEVENT
END:VCALENDAR