BEGIN:VCALENDAR
VERSION:2.0
PRODID:-//eventon.com NONSGML v1.0//EN
CALSCALE:GREGORIAN
METHOD:PUBLISH
BEGIN:VEVENT
UID:69e73d341b801
DTSTAMP:20260421T090244Z
DTSTART:20231018
DTEND:20231019
LOCATION:
SUMMARY:Jornada sobre e-commerce
DESCRIPTION:Jornada sobre e-commerce\,  18 de octubre a las 9:00 horas\,  e
 n en salón de actos de la Federación Empresarial Segoviana (Calle de Los 
 Coches\,  1. Segovia) Encuentro organizado por FES y Caixabank\nhttps://www
 .eventosdesegovia.com/events/jornada-sobre-e-commerce/
URL:https://www.eventosdesegovia.com/events/jornada-sobre-e-commerce/
END:VEVENT
END:VCALENDAR