BEGIN:VCALENDAR
VERSION:2.0
PRODID:-//eventon.com NONSGML v1.0//EN
CALSCALE:GREGORIAN
METHOD:PUBLISH
BEGIN:VEVENT
UID:69e8878bb0649
DTSTAMP:20260422T083211Z
DTSTART:20231018
DTEND:20231019
LOCATION:Segovia Segovia
SUMMARY:Presentación de 'La partida del soldado' en Librería Intempestivos
DESCRIPTION:Presentación de &#8216;La partida del soldado&#8217;\,  18 de 
 octubre a las 19:30 horas\,  en Librería Intempestivos (C. Teodosio el Gra
 nde\,  10)\nhttps://www.eventosdesegovia.com/events/presentacion-de-la-part
 ida-del-soldado-en-libreria-intempestivos/
URL:https://www.eventosdesegovia.com/events/presentacion-de-la-partida-del-soldado-en-libreria-intempestivos/
END:VEVENT
END:VCALENDAR