BEGIN:VCALENDAR
VERSION:2.0
PRODID:-//eventon.com NONSGML v1.0//EN
CALSCALE:GREGORIAN
METHOD:PUBLISH
BEGIN:VEVENT
UID:69e774f27213a
DTSTAMP:20260421T130034Z
DTSTART:20231112
DTEND:20231113
LOCATION:Torreón de Lozoya Plaza San Martín\,  5\,  40001 Segovia
SUMMARY:Exposición 'Juan Pita. Pintura de cinco décadas'  
DESCRIPTION:Exposición &#8216;Juan Pita. Pintura de cinco décadas&#8217;\
 ,  hasta el 12 de noviembre\,  en Torreón de Lozoya. Fruto de la colaborac
 ión entre el Colegio de Arquitectos y la Fundación Torreón de Lozoya. Re
 corre los 50 años transcurridos desde que el artista madrileño se estable
 ció en nuestra ciudad para ejercer sus profesiones[..]\nhttps://www.evento
 sdesegovia.com/events/exposicion-juan-pita-pintura-de-cinco-decadas/
URL:https://www.eventosdesegovia.com/events/exposicion-juan-pita-pintura-de-cinco-decadas/
END:VEVENT
END:VCALENDAR