BEGIN:VCALENDAR
VERSION:2.0
PRODID:-//eventon.com NONSGML v1.0//EN
CALSCALE:GREGORIAN
METHOD:PUBLISH
BEGIN:VEVENT
UID:69eb2b26e6914
DTSTAMP:20260424T083446Z
DTSTART:20231110
DTEND:20231111
LOCATION:Museo de Arte Contemporáneo Esteban Vicente Plaza Bellas Artes\,  0\,  Segovia
SUMMARY:Exposición. Esteban Vicente 1917-1961 'Las voces de tu voz'
DESCRIPTION:Exposición. Esteban Vicente 1917-1961 &#8216;Las voces de tu v
 oz&#8217;\,  desde el 10 de noviembre al 7 de abril\,  en el Museo de Arte 
 Contemporáneo Esteban Vicente. HORARIOS Martes a viernes\,  de 11 a 14h y 
 de 16 a 19h. sábados\,  de 11 a 20h. domingos y festivos\,  de 11 a[..]\nh
 ttps://www.eventosdesegovia.com/events/exposicion-esteban-vicente-1917-1961
 -las-voces-de-tu-voz/
URL:https://www.eventosdesegovia.com/events/exposicion-esteban-vicente-1917-1961-las-voces-de-tu-voz/
END:VEVENT
END:VCALENDAR