BEGIN:VCALENDAR
VERSION:2.0
PRODID:-//eventon.com NONSGML v1.0//EN
CALSCALE:GREGORIAN
METHOD:PUBLISH
BEGIN:VEVENT
UID:69e7765abd121
DTSTAMP:20260421T130634Z
DTSTART:20231117
DTEND:20231118
LOCATION:Centro Social Corpus Calle Juan Bravo\,  2
SUMMARY:Exposición Ilustraciones Ada Macmillan - Ha Nacido una Bruja
DESCRIPTION:Exposición Ilustraciones Ada Macmillan &#8211; Ha Nacido una B
 ruja\,  del 17 de Noviembre de 2023 al 1 de Diciembre de 2023 en el Centro 
 Social Corpus.\nhttps://www.eventosdesegovia.com/events/exposicion-ilustrac
 iones-ada-macmillan-ha-nacido-una-bruja/
URL:https://www.eventosdesegovia.com/events/exposicion-ilustraciones-ada-macmillan-ha-nacido-una-bruja/
END:VEVENT
END:VCALENDAR