BEGIN:VCALENDAR
VERSION:2.0
PRODID:-//eventon.com NONSGML v1.0//EN
CALSCALE:GREGORIAN
METHOD:PUBLISH
BEGIN:VEVENT
UID:69e75d166b479
DTSTAMP:20260421T111846Z
DTSTART:20201124
DTEND:20201125
LOCATION:Universidad de Valladolid. Campus de Segovia Plaza de la Universidad\,  1\,  40005 Segovia
SUMMARY:Seminario Derecho Internacional Humanitario
DESCRIPTION:Seminario Derecho Internacional Humanitario. 24 de noviembre de
 sde las 16h en el salón del grado del campus María Zambrano de Segovia.\n
 https://www.eventosdesegovia.com/events/seminario-derecho-internacional-hum
 anitario/
URL:https://www.eventosdesegovia.com/events/seminario-derecho-internacional-humanitario/
END:VEVENT
END:VCALENDAR