BEGIN:VCALENDAR
VERSION:2.0
PRODID:-//eventon.com NONSGML v1.0//EN
CALSCALE:GREGORIAN
METHOD:PUBLISH
BEGIN:VEVENT
UID:69e73b5c37e97
DTSTAMP:20260421T085452Z
DTSTART:20231124T173000Z
DTEND:20231124T183000Z
LOCATION:Casa de la Lectura – Biblioteca Municipal Calle Juan Bravo\,  11
SUMMARY:Títeres\,  Canciones\,  Cuentos y Matemáticas con Maria Jesus Argüello en la Casa de la Lectura de Segovia
DESCRIPTION:Títeres\,  Canciones\,  Cuentos y Matemáticas con Maria Jesus
  Argüello\,  24 de noviembre a las 18:30 horas en la Casa de la Lectura de
  Segovia. Dirigido a Público Joven\,  a partir de 12 años y Adulto. (Entr
 ada libre hasta completar el aforo)\nhttps://www.eventosdesegovia.com/event
 s/titeres-canciones-cuentos-y-matematicas-con-maria-jesus-arguello-en-la-ca
 sa-de-la-lectura-de-segovia/
URL:https://www.eventosdesegovia.com/events/titeres-canciones-cuentos-y-matematicas-con-maria-jesus-arguello-en-la-casa-de-la-lectura-de-segovia/
END:VEVENT
END:VCALENDAR