BEGIN:VCALENDAR
VERSION:2.0
PRODID:-//eventon.com NONSGML v1.0//EN
CALSCALE:GREGORIAN
METHOD:PUBLISH
BEGIN:VEVENT
UID:69e887764ca16
DTSTAMP:20260422T083150Z
DTSTART:20231201
DTEND:20231202
LOCATION:Turégano Turégano
SUMMARY:Feria de San Andrés 2023 en Turégano
DESCRIPTION:Feria de San Andrés 2023 en Turégano\,  del 1 al 3 de Diciemb
 re de 2023 con Discomovil\,  Exhibiciones\,  Encierros\,  Charanga\,  Orque
 stas&#8230; Síguenos en nuestro canal de Whatsapp:\nhttps://www.eventosdes
 egovia.com/events/feria-de-san-andres-2023-en-turegano/
URL:https://www.eventosdesegovia.com/events/feria-de-san-andres-2023-en-turegano/
END:VEVENT
END:VCALENDAR