BEGIN:VCALENDAR
VERSION:2.0
PRODID:-//eventon.com NONSGML v1.0//EN
CALSCALE:GREGORIAN
METHOD:PUBLISH
BEGIN:VEVENT
UID:69e4d2a43a5db
DTSTAMP:20260419T130332Z
DTSTART:20200715T170000Z
DTEND:20200715T200000Z
LOCATION:Laura Segovia Flamenco. Espectáculos y Formación Calle Alamillo\,  10\,  40001 Segovia
SUMMARY:Clases de Flamenco en Julio - Laura Segovia
DESCRIPTION:Clases de Flamenco en Julio &#8211; Laura Segovia\,  todos los 
 miércoles de Julio. 19:00 Sevillanas multinivel 20:00 Flamento Inicial 21:
 00 Flamenco Medio/Alto\nhttps://www.eventosdesegovia.com/events/clases-de-f
 lamenco-en-julio-laura-segovia-2/
URL:https://www.eventosdesegovia.com/events/clases-de-flamenco-en-julio-laura-segovia-2/
END:VEVENT
END:VCALENDAR