BEGIN:VCALENDAR
VERSION:2.0
PRODID:-//eventon.com NONSGML v1.0//EN
CALSCALE:GREGORIAN
METHOD:PUBLISH
BEGIN:VEVENT
UID:69e78dea27c32
DTSTAMP:20260421T144706Z
DTSTART:20231216
DTEND:20231217
LOCATION:
SUMMARY:Ciclo de rutas 'Enreda en verde' - Pinares de silvestre
DESCRIPTION:Ciclo de rutas &#8216;Enreda en verde&#8217; &#8211; Pinares de
  silvestre. 16 de diciembre\,  desde las 8:45 hasta las 15:00 horas. 👉 I
 nscripciones a partir del lunes 11 de diciembre a las 9:00h en eventbrite.e
 s Síguenos en nuestro canal de Whatsapp:\nhttps://www.eventosdesegovia.com
 /events/ciclo-de-rutas-enreda-en-verde-pinares-de-silvestre/
URL:https://www.eventosdesegovia.com/events/ciclo-de-rutas-enreda-en-verde-pinares-de-silvestre/
END:VEVENT
END:VCALENDAR