BEGIN:VCALENDAR
VERSION:2.0
PRODID:-//eventon.com NONSGML v1.0//EN
CALSCALE:GREGORIAN
METHOD:PUBLISH
BEGIN:VEVENT
UID:69e78bd687b63
DTSTAMP:20260421T143814Z
DTSTART:20231206
DTEND:20231207
LOCATION:Seminario de Segovia Plaza de Adolfo SuÃ¡rez
SUMMARY:BelÃ©n del Seminario 2023/2024
DESCRIPTION:EL seminario abre sus puertas este 7 de diciembre para visitar 
 el BelÃ©n Monumental. PodrÃ¡n contemplarse los belenes monumentales inspira
 dos en el costumbrismo segoviano; la temÃ¡tica hebrea; el espiritual DuratÃ
 ³n y la localidad de Escalona del Prado en ganchillo. Los cuatro montajes p
 odrÃ¡n contemplarse desde maÃ±ana\,  6 de diciembre\,  hasta[..]\nhttps://w
 ww.eventosdesegovia.com/events/belen-del-seminario-2023-2024/
URL:https://www.eventosdesegovia.com/events/belen-del-seminario-2023-2024/
END:VEVENT
END:VCALENDAR